BEGIN:VCALENDAR
VERSION:2.0
PRODID:-//Texas Higher Education Coordinating Board - ECPv6.15.20//NONSGML v1.0//EN
CALSCALE:GREGORIAN
METHOD:PUBLISH
X-WR-CALNAME:Texas Higher Education Coordinating Board
X-ORIGINAL-URL:https://www.highered.texas.gov
X-WR-CALDESC:Events for Texas Higher Education Coordinating Board
REFRESH-INTERVAL;VALUE=DURATION:PT1H
X-Robots-Tag:noindex
X-PUBLISHED-TTL:PT1H
BEGIN:VTIMEZONE
TZID:America/Chicago
BEGIN:DAYLIGHT
TZOFFSETFROM:-0600
TZOFFSETTO:-0500
TZNAME:CDT
DTSTART:20250309T080000
END:DAYLIGHT
BEGIN:STANDARD
TZOFFSETFROM:-0500
TZOFFSETTO:-0600
TZNAME:CST
DTSTART:20251102T070000
END:STANDARD
BEGIN:DAYLIGHT
TZOFFSETFROM:-0600
TZOFFSETTO:-0500
TZNAME:CDT
DTSTART:20260308T080000
END:DAYLIGHT
BEGIN:STANDARD
TZOFFSETFROM:-0500
TZOFFSETTO:-0600
TZNAME:CST
DTSTART:20261101T070000
END:STANDARD
BEGIN:DAYLIGHT
TZOFFSETFROM:-0600
TZOFFSETTO:-0500
TZNAME:CDT
DTSTART:20270314T080000
END:DAYLIGHT
BEGIN:STANDARD
TZOFFSETFROM:-0500
TZOFFSETTO:-0600
TZNAME:CST
DTSTART:20271107T070000
END:STANDARD
END:VTIMEZONE
BEGIN:VEVENT
DTSTART;TZID=America/Chicago:20260423T090000
DTEND;TZID=America/Chicago:20260423T140000
DTSTAMP:20260419T200259
CREATED:20251016T175539Z
LAST-MODIFIED:20260417T203833Z
UID:10000612-1776934800-1776952800@www.highered.texas.gov
SUMMARY:Quarterly Board Meeting
DESCRIPTION:Agenda and Materials\nAgenda \nVI: 2025 Star Awards: From Classroom to Career — A Future—Ready Texas PPT\nVII: Building a Talent Strong Texas Data Insight: Shared Nurse Academic Practice Partnership initiative PPT\nVIII-A: The University of Texas Health Science Center Houston’s Doctor of Nursing Practitioner degree program PPT\nX-A: Formula Advisory Committee Report  PPT
URL:https://www.highered.texas.gov/event/quarterly-board-meeting-20/
LOCATION:George H. W. Bush Building (Room 4.300)\, 1801 N Congress Ave\, Austin\, TX\, 78701\, United States
CATEGORIES:Board Meetings,Quarterly Board Meeting
END:VEVENT
END:VCALENDAR