BEGIN:VCALENDAR
VERSION:2.0
PRODID:-//Texas Higher Education Coordinating Board - ECPv6.15.20//NONSGML v1.0//EN
CALSCALE:GREGORIAN
METHOD:PUBLISH
X-ORIGINAL-URL:https://www.highered.texas.gov
X-WR-CALDESC:Events for Texas Higher Education Coordinating Board
REFRESH-INTERVAL;VALUE=DURATION:PT1H
X-Robots-Tag:noindex
X-PUBLISHED-TTL:PT1H
BEGIN:VTIMEZONE
TZID:America/Chicago
BEGIN:DAYLIGHT
TZOFFSETFROM:-0600
TZOFFSETTO:-0500
TZNAME:CDT
DTSTART:20250309T080000
END:DAYLIGHT
BEGIN:STANDARD
TZOFFSETFROM:-0500
TZOFFSETTO:-0600
TZNAME:CST
DTSTART:20251102T070000
END:STANDARD
BEGIN:DAYLIGHT
TZOFFSETFROM:-0600
TZOFFSETTO:-0500
TZNAME:CDT
DTSTART:20260308T080000
END:DAYLIGHT
BEGIN:STANDARD
TZOFFSETFROM:-0500
TZOFFSETTO:-0600
TZNAME:CST
DTSTART:20261101T070000
END:STANDARD
BEGIN:DAYLIGHT
TZOFFSETFROM:-0600
TZOFFSETTO:-0500
TZNAME:CDT
DTSTART:20270314T080000
END:DAYLIGHT
BEGIN:STANDARD
TZOFFSETFROM:-0500
TZOFFSETTO:-0600
TZNAME:CST
DTSTART:20271107T070000
END:STANDARD
END:VTIMEZONE
BEGIN:VEVENT
DTSTART;TZID=America/Chicago:20260115T100000
DTEND;TZID=America/Chicago:20260115T130000
DTSTAMP:20260420T164430
CREATED:20260112T164324Z
LAST-MODIFIED:20260112T165345Z
UID:10000633-1768471200-1768482000@www.highered.texas.gov
SUMMARY:WECM Advisory Committee Meeting\, January 15\, 2026
DESCRIPTION:I. Welcome and opening remarks – Dr. Tina Jackson \nII. Coordinating Board updates –\n• Student Success and Institutional Partnerships/OER – Carrie Gits\, Assistant Commissioner for Student Success\n• TRUE – Sheri Ranis\, Ph.D.\, Director for Workforce Education and Innovation\n• Programs of Study – Tina Jackson\, Ph.D.\, Assistant Commissioner for Workforce Education \nIII. Consideration of meeting notes from the October 16\, 2025\, regular meeting and the November 12\, 2025\, Called Meeting – Mr. Kevin Morris \nIV. Professional organizations updates – Representatives\, TACTE\, TACE\, and TACRAO \nV. Discussion of recommendations made by the Special Topics and Local Need Course Review Workgroup regarding the review of special courses – Dr. Lesley Keeling-Olson \nVI. Discussion of recommendations made by the WECM Comments Review workgroup regarding responses to public comments – Mr. Kevin Morris \nVII. Report on the WECM Maintenance Contract – Dr. Ebony Allison-Dennis \nVIII. Future agenda items and resources required for next meeting – Mr. Kevin Morris \nIX. Adjournment
URL:https://www.highered.texas.gov/event/wecm-advisory-committee-meeting-january-15-2026/
CATEGORIES:WECM
LOCATION:https://highered-texas.zoomgov.com/j/1601918668?pwd=H2xfLQlINUAChj5nISDo8fP71ds1Ur.1
END:VEVENT
BEGIN:VEVENT
DTSTART;TZID=America/Chicago:20260122T090000
DTEND;TZID=America/Chicago:20260122T140000
DTSTAMP:20260420T164430
CREATED:20251016T174204Z
LAST-MODIFIED:20260127T150536Z
UID:10000609-1769072400-1769090400@www.highered.texas.gov
SUMMARY:Quarterly Board Meeting
DESCRIPTION:Public Testimony\nThe presiding chair shall designate whether public testimony will be taken at the beginning of the meeting\, at the time the related item is taken up by the Board after staff has presented the item\, or any other time as determined by the presiding chair. For procedures on testifying please go to http://www.highered.texas.gov/public-testimony. \nAgenda and Materials\nAgenda \nAgenda Item VI: Major Policy Discussion 2025 Star Awards: From Classroom to Career – A Future-Ready Texas PPT\nAgenda Item VII: Building a Talent Strong Texas Data Insight: Texas Talent Trajectory (T3) in Action PPT\nAgenda Item VIII: Texas Higher Education Foundation update PPT\nAgenda Item IX-A: Update on Program approvals PPT\nAgenda Item IX-B: Update on Texas transfer initiatives PPT\nAgenda Item XI-C (1): Consideration and possible action regarding the proposal for decision in Healing Hands Massage Institute versus Texas Higher Education Coordinating Board Public Testimony (1)\, Public Testimony (2)\, Public Testimony (3)\, Public Testimony (4)\, Public Testimony (5)\, Public Testimony (6)\, Public Testimony (7)\, Public Testimony (8)\, Public Testimony (9)\, Public Testimony (10)
URL:https://www.highered.texas.gov/event/quarterly-board-meeting-19/
LOCATION:Barbara Jordan Building – Room 2.035\, 1601 N. Congress Ave.\, Austin\, TX\, United States
CATEGORIES:Board Meetings,Quarterly Board Meeting
END:VEVENT
BEGIN:VEVENT
DTSTART;TZID=America/Chicago:20260129T100000
DTEND;TZID=America/Chicago:20260129T120000
DTSTAMP:20260420T164430
CREATED:20260129T152546Z
LAST-MODIFIED:20260129T152546Z
UID:10000634-1769680800-1769688000@www.highered.texas.gov
SUMMARY:Certification Advisory Council (CAC) Meeting
DESCRIPTION:This meeting will be held via a video conference. A link to the live broadcast will be available at https://www.highered.texas.gov.
URL:https://www.highered.texas.gov/event/certification-advisory-council-cac-meeting/
CATEGORIES:Certification Advisory Council (CAC)
LOCATION:
END:VEVENT
END:VCALENDAR