BEGIN:VCALENDAR
VERSION:2.0
PRODID:-//Texas Higher Education Coordinating Board - ECPv6.15.20//NONSGML v1.0//EN
CALSCALE:GREGORIAN
METHOD:PUBLISH
X-ORIGINAL-URL:https://www.highered.texas.gov
X-WR-CALDESC:Events for Texas Higher Education Coordinating Board
REFRESH-INTERVAL;VALUE=DURATION:PT1H
X-Robots-Tag:noindex
X-PUBLISHED-TTL:PT1H
BEGIN:VTIMEZONE
TZID:America/Chicago
BEGIN:DAYLIGHT
TZOFFSETFROM:-0600
TZOFFSETTO:-0500
TZNAME:CDT
DTSTART:20240310T080000
END:DAYLIGHT
BEGIN:STANDARD
TZOFFSETFROM:-0500
TZOFFSETTO:-0600
TZNAME:CST
DTSTART:20241103T070000
END:STANDARD
BEGIN:DAYLIGHT
TZOFFSETFROM:-0600
TZOFFSETTO:-0500
TZNAME:CDT
DTSTART:20250309T080000
END:DAYLIGHT
BEGIN:STANDARD
TZOFFSETFROM:-0500
TZOFFSETTO:-0600
TZNAME:CST
DTSTART:20251102T070000
END:STANDARD
BEGIN:DAYLIGHT
TZOFFSETFROM:-0600
TZOFFSETTO:-0500
TZNAME:CDT
DTSTART:20260308T080000
END:DAYLIGHT
BEGIN:STANDARD
TZOFFSETFROM:-0500
TZOFFSETTO:-0600
TZNAME:CST
DTSTART:20261101T070000
END:STANDARD
END:VTIMEZONE
BEGIN:VEVENT
DTSTART;TZID=America/Chicago:20250529T100000
DTEND;TZID=America/Chicago:20250529T120000
DTSTAMP:20260420T154950
CREATED:20250508T195612Z
LAST-MODIFIED:20250529T143724Z
UID:10000584-1748512800-1748520000@www.highered.texas.gov
SUMMARY:ApplyTexas Advisory Committee Meeting
DESCRIPTION:AGENDA \n\nWelcome and Introductions\nApproval of meeting minutes from February 27\, 2025\nRecognition of members completing their terms\nUpdates to the ApplyTexas System\n\nOverview of ApplyTexas Maintenance\nFraud Prevention\nHelp Desk Response Time\nCommunication\n\n\nCore Questions Subcommittee Update and Discussion\nDiscussion and Possible Action to Adopt Recommendations Regarding ApplyTexas Forms or Procedures\nDiscussion on Potential Agenda Items and Next Meeting Date\nAdjournment\n\nMEETING MATERIALS \n\nMeeting Agenda\nMeeting Notes from February 27\, 2025 (draft)\nList of ATAC Members\n\n  \nWEBCAST\nThe link will be posted the day of the meeting.
URL:https://www.highered.texas.gov/event/applytexas-advisory-committee-meeting-28/
LOCATION:Virtual
CATEGORIES:ApplyTexas
END:VEVENT
END:VCALENDAR