BEGIN:VCALENDAR
VERSION:2.0
PRODID:-//Texas Higher Education Coordinating Board - ECPv6.15.20//NONSGML v1.0//EN
CALSCALE:GREGORIAN
METHOD:PUBLISH
X-ORIGINAL-URL:https://www.highered.texas.gov
X-WR-CALDESC:Events for Texas Higher Education Coordinating Board
REFRESH-INTERVAL;VALUE=DURATION:PT1H
X-Robots-Tag:noindex
X-PUBLISHED-TTL:PT1H
BEGIN:VTIMEZONE
TZID:America/Chicago
BEGIN:DAYLIGHT
TZOFFSETFROM:-0600
TZOFFSETTO:-0500
TZNAME:CDT
DTSTART:20220313T080000
END:DAYLIGHT
BEGIN:STANDARD
TZOFFSETFROM:-0500
TZOFFSETTO:-0600
TZNAME:CST
DTSTART:20221106T070000
END:STANDARD
BEGIN:DAYLIGHT
TZOFFSETFROM:-0600
TZOFFSETTO:-0500
TZNAME:CDT
DTSTART:20230312T080000
END:DAYLIGHT
BEGIN:STANDARD
TZOFFSETFROM:-0500
TZOFFSETTO:-0600
TZNAME:CST
DTSTART:20231105T070000
END:STANDARD
BEGIN:DAYLIGHT
TZOFFSETFROM:-0600
TZOFFSETTO:-0500
TZNAME:CDT
DTSTART:20240310T080000
END:DAYLIGHT
BEGIN:STANDARD
TZOFFSETFROM:-0500
TZOFFSETTO:-0600
TZNAME:CST
DTSTART:20241103T070000
END:STANDARD
END:VTIMEZONE
BEGIN:VEVENT
DTSTART;TZID=America/Chicago:20231101T100000
DTEND;TZID=America/Chicago:20231101T120000
DTSTAMP:20260425T162724
CREATED:20240516T142246Z
LAST-MODIFIED:20260413T151121Z
UID:10000328-1698832800-1698840000@www.highered.texas.gov
SUMMARY:Health-Related Institutions Formula Advisory Committee (HRIFAC)
DESCRIPTION:For more information\, inquiries should be directed to Melitta.Berger@highered.texas.gov. \nAgenda\n\nWelcome & Remarks\nCall to Order\nRoll Call\nApproval of September 27\, 2023 Meeting Minutes\nDiscussion of Charges\nPlan for Future Meetings\nAdjournment\n\nMeeting Materials\n\nDetailed Agenda\nHRIFAC Video
URL:https://www.highered.texas.gov/event/health-related-institutions-formula-advisory-committee-hrifac-4/
LOCATION:Virtual
CATEGORIES:Formula Advisory Committee
END:VEVENT
BEGIN:VEVENT
DTSTART;TZID=America/Chicago:20231101T130000
DTEND;TZID=America/Chicago:20231101T150000
DTSTAMP:20260425T162724
CREATED:20240516T142131Z
LAST-MODIFIED:20260413T145146Z
UID:10000327-1698843600-1698850800@www.highered.texas.gov
SUMMARY:General Academic Institutions Formula Advisory Committee (GAIFAC)
DESCRIPTION:For more information\, inquiries should be directed to Jennifer.Gonzales@highered.texas.gov. \nAgenda\n\nCall to Order\nRoll Call\nApproval of September 27\, 2023 Meeting Minutes\nDiscussion of Charges\nPlan for Future Meetings\nAdjournment\n\nMeeting Materials\n\nDetailed Agenda\nGAIFAC Video
URL:https://www.highered.texas.gov/event/general-academic-institutions-formula-advisory-committee-gaifac-2/
LOCATION:THECB Board Room\, 1801 N Congress Ave\, Austin\, TX\, 78701\, United States
CATEGORIES:Formula Advisory Committee
END:VEVENT
BEGIN:VEVENT
DTSTART;TZID=America/Chicago:20231102T100000
DTEND;TZID=America/Chicago:20231102T120000
DTSTAMP:20260425T162724
CREATED:20240516T164042Z
LAST-MODIFIED:20260413T150517Z
UID:10000392-1698919200-1698926400@www.highered.texas.gov
SUMMARY:Certification Advisory Council Meeting
DESCRIPTION:Agenda\nThis meeting will be held via a video conference. A link to the live broadcast and meeting materials will be available at https://www.highered.texas.gov. \n\nWelcome\, Introduction\, & Remarks\nCathie A. Maeyaert\, Director-Private Postsecondary Institutions\nConsideration of Summary Notes from the August 8\, 2023\, Meeting\nCAC Chair\nConsideration of the Application for an Initial Certificate of Authority from Healing Hands Massage Institute\, LLC\nCAC Chair\nUpdate on Upcoming Meeting Dates and Expected Applications\nCathie A. Maeyaert\, Director-Private Postsecondary Institutions\nAdjournment\n\nIndividuals who may require auxiliary aids or services for this meeting should contact Glenn Tramel\, ADA Coordinator\, at 512-427-6193 at least five days before the meeting so that appropriate arrangements can be made. \nAll persons requesting to address the Committee regarding an item on this agenda should do so in writing at least 24 hours before the start of the meeting at Cathie.Maeyaert@highered.texas.gov. A toll-free telephone number\, free-of-charge video conference link\, or other means will be provided by which to do so.
URL:https://www.highered.texas.gov/event/certification-advisory-council-meeting/
LOCATION:Virtual
CATEGORIES:Certification Advisory Committee
END:VEVENT
BEGIN:VEVENT
DTSTART;TZID=America/Chicago:20231106T090000
DTEND;TZID=America/Chicago:20231106T120000
DTSTAMP:20260425T162724
CREATED:20240515T211319Z
LAST-MODIFIED:20260411T193927Z
UID:10000285-1699261200-1699272000@www.highered.texas.gov
SUMMARY:ACGM Committee Meeting
DESCRIPTION:Agenda\n\nWelcome\, Introduction of THECB staff\, and opening remarks\nIntroduction of ACGM members\nOpen Meetings Act and Quorum\nPresentation and possible action to elect ACGM committee co-chairs\n Review of the Academic Course Guide Manual and charge of the committee\n Brief overview of TTAC and FOS; Presentation and possible action to adopt KINE subcommittee materials\nPresentation and possible action to recommend UT Austin DANA Center Proposal for MATH for educators; MATH 1314 deletion\nPresentation and possible action to recommend teacher virtual field observation for EDUC 1301 & EDUC 2301\nACGM Spring 2024 Manual publication and next steps\nAdjournment\n\nPDF Version of the Agenda is available here. \n 
URL:https://www.highered.texas.gov/event/acgm-committee-meeting/
CATEGORIES:Lower-Division Advisory Committee
END:VEVENT
BEGIN:VEVENT
DTSTART;TZID=America/Chicago:20231113T090000
DTEND;TZID=America/Chicago:20231113T163000
DTSTAMP:20260425T162724
CREATED:20240320T031840Z
LAST-MODIFIED:20260413T143717Z
UID:10000038-1699866000-1699893000@www.highered.texas.gov
SUMMARY:ApplyTexas Advisory Committee Meeting
DESCRIPTION:Agenda\n\nATAC Agenda 11-13-23\n\nMeeting Materials\n\nOctober 2023 ATAC Members\nDraft Notes: 2-3-23 Meeting\nDraft Notes: 6-14-23 Meeting
URL:https://www.highered.texas.gov/event/applytexas-advisory-committee-meeting-25/
LOCATION:THECB Board Room\, 1801 N Congress Ave\, Austin\, TX\, 78701\, United States
CATEGORIES:ApplyTexas
END:VEVENT
BEGIN:VEVENT
DTSTART;TZID=America/Chicago:20231117T100000
DTEND;TZID=America/Chicago:20231117T100000
DTSTAMP:20260425T162724
CREATED:20240515T203929Z
LAST-MODIFIED:20260411T193010Z
UID:10000274-1700215200-1700215200@www.highered.texas.gov
SUMMARY:Advisory Council on Postsecondary Education For Persons With Intellectual And Developmental Disabilities (IDD)
DESCRIPTION:This meeting will also be held via a video or telephone conference. A link to the live broadcast will be available at www.highered.texas.gov/. \nAgenda:\n\nCall to Order\nAdvisory Council Member Roll Call\nApproval of Minutes\nMembership (Introductions)\nLegislative Update (SB55)\nAccessibility Report (SB1017) Planning\nAnnouncements\nAdjournment\n\nMeeting Materials:\nOctober 2023\, IDDAC Members \nIndividuals who may require auxiliary aids or services for this meeting should contact Glenn Tramel\, ADA Coordinator\, at 512.427.6193 at least five days before the meeting so that appropriate arrangements can be made. \nAll persons requesting to address the Committee regarding an item on this agenda should do so in writing at least 24 hours before the start of the meeting at waylon.metoyer@highered.texas.gov.  A toll-free telephone number\, free-of-charge video conference link\, or other means will be provided by which to do so.
URL:https://www.highered.texas.gov/event/advisory-council-on-postsecondary-education-for-persons-with-intellectual-and-developmental-disabilities-idd-5/
LOCATION:George H. W. Bush Building (Room 12.103)\, 1801 N. Congress Ave. Rm 12.103\, Austin\, TX\, United States
CATEGORIES:Advisory Council on Postsecondary Education For Persons With Intellectual And Developmental Disabilities (IDD)
END:VEVENT
BEGIN:VEVENT
DTSTART;TZID=America/Chicago:20231117T100000
DTEND;TZID=America/Chicago:20231117T170000
DTSTAMP:20260425T162724
CREATED:20240320T005043Z
LAST-MODIFIED:20260411T193845Z
UID:10000009-1700215200-1700240400@www.highered.texas.gov
SUMMARY:Advisory Council on Postsecondary Education for Persons With Intellectual and Developmental Disabilities Meeting
DESCRIPTION:This meeting will also be held via a video or telephone conference. A link to the live broadcast will be available at www.highered.texas.gov/ \nAgenda:\n\nCall to Order\nAdvisory Council Member Roll Call\nApproval of Minutes\nMembership (Introductions)\nLegislative Update (SB55)\nAccessibility Report (SB1017) Planning\nAnnouncements\nAdjournment\n\n  \nMeeting Materials:\nOctober 2023\, IDDAC Members \n  \nIndividuals who may require auxiliary aids or services for this meeting should contact Glenn Tramel\, ADA Coordinator\, at 512.427.6193 at least five days before the meeting so that appropriate arrangements can be made. \nAll persons requesting to address the Committee regarding an item on this agenda should do so in writing at least 24 hours before the start of the meeting at waylon.metoyer@highered.texas.gov.  A toll-free telephone number\, free-of-charge video conference link\, or other means will be provided by which to do so.
URL:https://www.highered.texas.gov/event/advisory-council-on-postsecondary-education-for-persons-with-intellectual-and-developmental-disabilities-meeting-2/
LOCATION:George H. W. Bush Building (Room 12.103)\, 1801 N. Congress Ave. Rm 12.103\, Austin\, TX\, United States
CATEGORIES:Advisory Council on Postsecondary Education
END:VEVENT
BEGIN:VEVENT
DTSTART;TZID=America/Chicago:20231127T130000
DTEND;TZID=America/Chicago:20231127T150000
DTSTAMP:20260425T162724
CREATED:20240516T163539Z
LAST-MODIFIED:20260411T022455Z
UID:10000389-1701090000-1701097200@www.highered.texas.gov
SUMMARY:Texas Transfer Advisory Committee
DESCRIPTION:Agenda\nThe Texas Transfer Advisory Committee (TTAC) has responsibility to advise the Commissioner\non the development and revision of the Field of Study (FOS) Curricula. \n1. Welcome\nMs. Elizabeth Mayer\, Assistant Commissioner\, Academic and Health Affairs \n2. Summary Notes \n3. Discussion and Possible Action to Recommend Communication Field of StudyCurriculum\nCo-Chairs \n4. Update on English Field of Study Curriculum\nCo-Chairs \n5. Presentation and Possible Action to Recommend an Alternative Framework\nMs. Elizabeth Mayer and Workgroup Members \n6. Discussion of Establishing Subcommittees on Developing Meta-Major Fields of Study\nMs. Elizabeth Mayer \n7. Next Steps and Possible Future Agenda Items\nMs. Elizabeth Mayer \n8. Adjournment \nWeapons Prohibited: Pursuant to Texas Penal Code\, Section 46.03(a)(14)\, a person commits an offense if the person intentionally\, knowingly\, or recklessly possesses or goes with a firearm\, location-restricted knife\, club\, or prohibited weapon listed in Section 46.05 in the room or rooms where a meeting of a governmental entity is held\, if the meeting is an open meeting subject to Texas Government Code\, Chapter 551\, and if the entity provided notice as required by that chapter.
URL:https://www.highered.texas.gov/event/texas-transfer-advisory-committee/
LOCATION:Virtual
CATEGORIES:Texas Transfer Advisory Committee
END:VEVENT
BEGIN:VEVENT
DTSTART;TZID=America/Chicago:20231130T100000
DTEND;TZID=America/Chicago:20231130T120000
DTSTAMP:20260425T162724
CREATED:20240516T141542Z
LAST-MODIFIED:20260413T152022Z
UID:10000326-1701338400-1701345600@www.highered.texas.gov
SUMMARY:Health-Related Institutions Formula Advisory Committee (HRIFAC)
DESCRIPTION:For more information\, inquiries should be directed to Melitta.Berger@highered.texas.gov. \nAgenda\n\nWelcome & Remarks\nCall to Order\nRoll Call\nApproval of November 1\, 2023 Meeting Minutes\nDiscussion of Charges\nPlan for Future Meetings\nAdjournment\n\nMeeting Materials\n\nDetailed Agenda\nHRIFAC Video
URL:https://www.highered.texas.gov/event/health-related-institutions-formula-advisory-committee-hrifac-3/
LOCATION:Virtual
CATEGORIES:Formula Advisory Committee
END:VEVENT
END:VCALENDAR