BEGIN:VCALENDAR
VERSION:2.0
PRODID:-//Texas Higher Education Coordinating Board - ECPv6.15.20//NONSGML v1.0//EN
CALSCALE:GREGORIAN
METHOD:PUBLISH
X-WR-CALNAME:Texas Higher Education Coordinating Board
X-ORIGINAL-URL:https://www.highered.texas.gov
X-WR-CALDESC:Events for Texas Higher Education Coordinating Board
REFRESH-INTERVAL;VALUE=DURATION:PT1H
X-Robots-Tag:noindex
X-PUBLISHED-TTL:PT1H
BEGIN:VTIMEZONE
TZID:America/Chicago
BEGIN:DAYLIGHT
TZOFFSETFROM:-0600
TZOFFSETTO:-0500
TZNAME:CDT
DTSTART:20250309T080000
END:DAYLIGHT
BEGIN:STANDARD
TZOFFSETFROM:-0500
TZOFFSETTO:-0600
TZNAME:CST
DTSTART:20251102T070000
END:STANDARD
BEGIN:DAYLIGHT
TZOFFSETFROM:-0600
TZOFFSETTO:-0500
TZNAME:CDT
DTSTART:20260308T080000
END:DAYLIGHT
BEGIN:STANDARD
TZOFFSETFROM:-0500
TZOFFSETTO:-0600
TZNAME:CST
DTSTART:20261101T070000
END:STANDARD
BEGIN:DAYLIGHT
TZOFFSETFROM:-0600
TZOFFSETTO:-0500
TZNAME:CDT
DTSTART:20270314T080000
END:DAYLIGHT
BEGIN:STANDARD
TZOFFSETFROM:-0500
TZOFFSETTO:-0600
TZNAME:CST
DTSTART:20271107T070000
END:STANDARD
END:VTIMEZONE
BEGIN:VEVENT
DTSTART;TZID=America/Chicago:20260407T130000
DTEND;TZID=America/Chicago:20260407T150000
DTSTAMP:20260420T060239
CREATED:20260320T192045Z
LAST-MODIFIED:20260331T144928Z
UID:10000642-1775566800-1775574000@www.highered.texas.gov
SUMMARY:Texas Transfer Advisory Committee (TTAC)
DESCRIPTION:AGENDA\n1:00pm – 3:00pm \nThe Texas Transfer Advisory Committee (TTAC) has the responsibility to advise the Commissioner on the development and revision of the Field of Study (FOS) Curricula. \n\nWelcome & Introductions\nEmma Gelsinger\, THECB\nRoll Call of TTAC Members\nTTAC Co-Chair\nAdoption of Summary Notes\nTTAC Co-Chair\nPresentation and Possible Action to Recommend Approval of the Architecture Field of Study Curriculum\nSubcommittee Co-Chairs\nUpdate on THECB Transfer Data\nChristina Zavala\, THECB\nUpdate on Transfer-Related Legislative Implementation (SB 3039)\nEmma Gelsinger\, THECB\nNext Steps and Possible Future Agenda Items\nBrittni Hollis\, THECB\nAdjournment\n\nWeapons Prohibited: Pursuant to Texas Penal Code\, Section 46.03(a)(14)\, a person commits an offense if the person intentionally\, knowingly\, or recklessly possesses or goes with a firearm\, location-restricted knife\, club\, or prohibited weapon listed in Section 46.05 in the room or rooms where a meeting of a governmental entity is held\, if the meeting is an open meeting subject to Texas Government Code\, Chapter 551\, and if the entity provided notice as required by that chapter.
URL:https://www.highered.texas.gov/event/texas-transfer-advisory-committee-ttac/
CATEGORIES:Texas Transfer Advisory Committee
LOCATION:
END:VEVENT
END:VCALENDAR